BEGIN:VCALENDAR
VERSION:2.0
PRODID:-//Church of Pentecost - ECPv6.15.18//NONSGML v1.0//EN
CALSCALE:GREGORIAN
METHOD:PUBLISH
X-ORIGINAL-URL:https://churchofpentecost.net
X-WR-CALDESC:Events for Church of Pentecost
REFRESH-INTERVAL;VALUE=DURATION:PT1H
X-Robots-Tag:noindex
X-PUBLISHED-TTL:PT1H
BEGIN:VTIMEZONE
TZID:America/New_York
BEGIN:DAYLIGHT
TZOFFSETFROM:-0500
TZOFFSETTO:-0400
TZNAME:EDT
DTSTART:20250309T070000
END:DAYLIGHT
BEGIN:STANDARD
TZOFFSETFROM:-0400
TZOFFSETTO:-0500
TZNAME:EST
DTSTART:20251102T060000
END:STANDARD
BEGIN:DAYLIGHT
TZOFFSETFROM:-0500
TZOFFSETTO:-0400
TZNAME:EDT
DTSTART:20260308T070000
END:DAYLIGHT
BEGIN:STANDARD
TZOFFSETFROM:-0400
TZOFFSETTO:-0500
TZNAME:EST
DTSTART:20261101T060000
END:STANDARD
BEGIN:DAYLIGHT
TZOFFSETFROM:-0500
TZOFFSETTO:-0400
TZNAME:EDT
DTSTART:20270314T070000
END:DAYLIGHT
BEGIN:STANDARD
TZOFFSETFROM:-0400
TZOFFSETTO:-0500
TZNAME:EST
DTSTART:20271107T060000
END:STANDARD
END:VTIMEZONE
BEGIN:VEVENT
DTSTART;TZID=America/New_York:20260628T100000
DTEND;TZID=America/New_York:20260628T120000
DTSTAMP:20260421T090254
CREATED:20260407T161306Z
LAST-MODIFIED:20260421T124633Z
UID:154226-1782640800-1782648000@churchofpentecost.net
SUMMARY:June Baby Dedication
DESCRIPTION:Are you ready to dedicate your baby to the Lord? Church of Pentecost invites you to take part in our upcoming Baby Dedication service. \nThis special ceremony is a meaningful opportunity to: \n\nCommit to raising your child in a godly manner.\nSeek God’s blessings upon your little one.\nReceive support from our church community as you nurture your child in faith.\n\nSign up and join us for this beautiful moment!  We look forward to celebrating this special milestone with your family! \n*Pastor Roberts will confirm by email within a couple days of registration. \n*To register your child: \n\nComplete the first section with your information (the registering parent/guardian).\nComplete the second section by entering the details for the child being dedicated.
URL:https://churchofpentecost.net/event/june-baby-dedication
END:VEVENT
END:VCALENDAR