BEGIN:VCALENDAR
VERSION:2.0
PRODID:-//Church of Pentecost - ECPv6.15.18//NONSGML v1.0//EN
CALSCALE:GREGORIAN
METHOD:PUBLISH
X-WR-CALNAME:Church of Pentecost
X-ORIGINAL-URL:https://churchofpentecost.net
X-WR-CALDESC:Events for Church of Pentecost
REFRESH-INTERVAL;VALUE=DURATION:PT1H
X-Robots-Tag:noindex
X-PUBLISHED-TTL:PT1H
BEGIN:VTIMEZONE
TZID:America/New_York
BEGIN:DAYLIGHT
TZOFFSETFROM:-0500
TZOFFSETTO:-0400
TZNAME:EDT
DTSTART:20260308T070000
END:DAYLIGHT
BEGIN:STANDARD
TZOFFSETFROM:-0400
TZOFFSETTO:-0500
TZNAME:EST
DTSTART:20261101T060000
END:STANDARD
BEGIN:DAYLIGHT
TZOFFSETFROM:-0500
TZOFFSETTO:-0400
TZNAME:EDT
DTSTART:20270314T070000
END:DAYLIGHT
BEGIN:STANDARD
TZOFFSETFROM:-0400
TZOFFSETTO:-0500
TZNAME:EST
DTSTART:20271107T060000
END:STANDARD
BEGIN:DAYLIGHT
TZOFFSETFROM:-0500
TZOFFSETTO:-0400
TZNAME:EDT
DTSTART:20280312T070000
END:DAYLIGHT
BEGIN:STANDARD
TZOFFSETFROM:-0400
TZOFFSETTO:-0500
TZNAME:EST
DTSTART:20281105T060000
END:STANDARD
END:VTIMEZONE
BEGIN:VEVENT
DTSTART;TZID=America/New_York:20270509T100000
DTEND;TZID=America/New_York:20270509T110000
DTSTAMP:20260421T174828
CREATED:20260407T161245Z
LAST-MODIFIED:20260421T214623Z
UID:154202-1809856800-1809860400@churchofpentecost.net
SUMMARY:Mother's Day: Muffins With Mom
DESCRIPTION:Join us at Church of Pentecost for a heartwarming celebration of moms! Treat your mom this Mother’s Day at 10am to a special morning of love and appreciation with our “Muffins with Mom” event. Enjoy a delightful selection of muffins and refreshing drinks as we honor our incredible mothers. Let’s make memories together as we celebrate the love\, strength\, and nurturing spirit that only mom can give.  Let’s make this Mother’s Day extra special together. See you there!
URL:https://churchofpentecost.net/event/mothers-day-muffins-with-mom
END:VEVENT
END:VCALENDAR