BEGIN:VCALENDAR
VERSION:2.0
PRODID:-//Church of Pentecost - ECPv6.15.18//NONSGML v1.0//EN
CALSCALE:GREGORIAN
METHOD:PUBLISH
X-WR-CALNAME:Church of Pentecost
X-ORIGINAL-URL:https://churchofpentecost.net
X-WR-CALDESC:Events for Church of Pentecost
REFRESH-INTERVAL;VALUE=DURATION:PT1H
X-Robots-Tag:noindex
X-PUBLISHED-TTL:PT1H
BEGIN:VTIMEZONE
TZID:America/New_York
BEGIN:DAYLIGHT
TZOFFSETFROM:-0500
TZOFFSETTO:-0400
TZNAME:EDT
DTSTART:20260308T070000
END:DAYLIGHT
BEGIN:STANDARD
TZOFFSETFROM:-0400
TZOFFSETTO:-0500
TZNAME:EST
DTSTART:20261101T060000
END:STANDARD
BEGIN:DAYLIGHT
TZOFFSETFROM:-0500
TZOFFSETTO:-0400
TZNAME:EDT
DTSTART:20270314T070000
END:DAYLIGHT
BEGIN:STANDARD
TZOFFSETFROM:-0400
TZOFFSETTO:-0500
TZNAME:EST
DTSTART:20271107T060000
END:STANDARD
BEGIN:DAYLIGHT
TZOFFSETFROM:-0500
TZOFFSETTO:-0400
TZNAME:EDT
DTSTART:20280312T070000
END:DAYLIGHT
BEGIN:STANDARD
TZOFFSETFROM:-0400
TZOFFSETTO:-0500
TZNAME:EST
DTSTART:20281105T060000
END:STANDARD
END:VTIMEZONE
BEGIN:VEVENT
DTSTART;TZID=America/New_York:20271210T180000
DTEND;TZID=America/New_York:20271210T210000
DTSTAMP:20260422T031659
CREATED:20260407T161334Z
LAST-MODIFIED:20260422T064644Z
UID:154275-1828461600-1828472400@churchofpentecost.net
SUMMARY:Christmas Banquet
DESCRIPTION:Join us for our Annual Christmas Banquet\, where we come together to celebrate the birth of Jesus! Enjoy a festive evening filled with delicious food\, uplifting music\, and heartfelt messages that remind us of the true meaning of Christmas. Bring your family and friends for an evening of joy\, fellowship\, and gratitude as we reflect on the love and hope that Jesus brings to our lives. Don’t miss this special occasion of community and celebration!
URL:https://churchofpentecost.net/event/christmas-banquet
END:VEVENT
END:VCALENDAR