BEGIN:VCALENDAR
VERSION:2.0
PRODID:-//Church of Pentecost - ECPv6.15.18//NONSGML v1.0//EN
CALSCALE:GREGORIAN
METHOD:PUBLISH
X-WR-CALNAME:Church of Pentecost
X-ORIGINAL-URL:https://churchofpentecost.net
X-WR-CALDESC:Events for Church of Pentecost
REFRESH-INTERVAL;VALUE=DURATION:PT1H
X-Robots-Tag:noindex
X-PUBLISHED-TTL:PT1H
BEGIN:VTIMEZONE
TZID:America/New_York
BEGIN:DAYLIGHT
TZOFFSETFROM:-0500
TZOFFSETTO:-0400
TZNAME:EDT
DTSTART:20270314T070000
END:DAYLIGHT
BEGIN:STANDARD
TZOFFSETFROM:-0400
TZOFFSETTO:-0500
TZNAME:EST
DTSTART:20271107T060000
END:STANDARD
BEGIN:DAYLIGHT
TZOFFSETFROM:-0500
TZOFFSETTO:-0400
TZNAME:EDT
DTSTART:20280312T070000
END:DAYLIGHT
BEGIN:STANDARD
TZOFFSETFROM:-0400
TZOFFSETTO:-0500
TZNAME:EST
DTSTART:20281105T060000
END:STANDARD
BEGIN:DAYLIGHT
TZOFFSETFROM:-0500
TZOFFSETTO:-0400
TZNAME:EDT
DTSTART:20290311T070000
END:DAYLIGHT
BEGIN:STANDARD
TZOFFSETFROM:-0400
TZOFFSETTO:-0500
TZNAME:EST
DTSTART:20291104T060000
END:STANDARD
END:VTIMEZONE
BEGIN:VEVENT
DTSTART;TZID=America/New_York:20280101T140000
DTEND;TZID=America/New_York:20280101T190000
DTSTAMP:20260422T015049
CREATED:20260407T161338Z
LAST-MODIFIED:20260422T054735Z
UID:154281-1830348000-1830366000@churchofpentecost.net
SUMMARY:New Years Day Celebration
DESCRIPTION:🎉 Kick Off the New Year with Us! 🎉\nHappy New Year! Let’s start the year right—together! \nJoin us on New Year’s Day for an afternoon of warm fellowship\, delicious food\, and spirited fun for the whole church family. \nFeast & FellowshipOur celebration centers on a wonderful Congregational Potluck! We ask each family to contribute one savory or sweet dish to share. Sign up now and tell us what culinary delight you’re bringing so we can plan the ultimate meal together as a church family! \nTalent Showcase: It’s Your Time to Shine!The mic is open! Whether you have a hidden talent or a passion you love to share\, the stage is yours. Come and inspire your fellow members with a performance! \nWe’re Looking For:\n\nMusical Acts: Solos\, duets\, or full-band instrumentals.\nLiterary Readings: Original poems or favorite inspirational pieces.\nLaughter: Comedy routines\, improv\, or fun group skits.\n\nDon’t miss this wonderful afternoon of fellowship and celebration! \n\nSIGN UP TO PERFORM\n\nSIGN UP FOR POTLUCK
URL:https://churchofpentecost.net/event/new-years-day-celebration
END:VEVENT
END:VCALENDAR