BEGIN:VCALENDAR
VERSION:2.0
PRODID:-//Church of Pentecost - ECPv6.15.18//NONSGML v1.0//EN
CALSCALE:GREGORIAN
METHOD:PUBLISH
X-WR-CALNAME:Church of Pentecost
X-ORIGINAL-URL:https://churchofpentecost.net
X-WR-CALDESC:Events for Church of Pentecost
REFRESH-INTERVAL;VALUE=DURATION:PT1H
X-Robots-Tag:noindex
X-PUBLISHED-TTL:PT1H
BEGIN:VTIMEZONE
TZID:America/New_York
BEGIN:DAYLIGHT
TZOFFSETFROM:-0500
TZOFFSETTO:-0400
TZNAME:EDT
DTSTART:20270314T070000
END:DAYLIGHT
BEGIN:STANDARD
TZOFFSETFROM:-0400
TZOFFSETTO:-0500
TZNAME:EST
DTSTART:20271107T060000
END:STANDARD
BEGIN:DAYLIGHT
TZOFFSETFROM:-0500
TZOFFSETTO:-0400
TZNAME:EDT
DTSTART:20280312T070000
END:DAYLIGHT
BEGIN:STANDARD
TZOFFSETFROM:-0400
TZOFFSETTO:-0500
TZNAME:EST
DTSTART:20281105T060000
END:STANDARD
BEGIN:DAYLIGHT
TZOFFSETFROM:-0500
TZOFFSETTO:-0400
TZNAME:EDT
DTSTART:20290311T070000
END:DAYLIGHT
BEGIN:STANDARD
TZOFFSETFROM:-0400
TZOFFSETTO:-0500
TZNAME:EST
DTSTART:20291104T060000
END:STANDARD
END:VTIMEZONE
BEGIN:VEVENT
DTSTART;TZID=America/New_York:20280403T190000
DTEND;TZID=America/New_York:20280403T200000
DTSTAMP:20260421T195049
CREATED:20260407T161243Z
LAST-MODIFIED:20260421T234656Z
UID:154196-1838401200-1838404800@churchofpentecost.net
SUMMARY:Ladies' Prayer
DESCRIPTION:Join us for Ladies’ Prayer\, a space to draw near to God’s heart and find strength in the company of sisters. This gathering consists of a small devotional\, followed by a time to share prayer requests and pray for one another. Through corporate prayer\, we bring our families\, our burdens\, and our joys before the Lord. Come as you are to experience the beauty of seeking God’s presence and supporting one another in faith.  \nWe welcome all women and young ladies (age 16+) to join us for this night of prayer.
URL:https://churchofpentecost.net/event/ladies-prayer
END:VEVENT
BEGIN:VEVENT
DTSTART;TZID=America/New_York:20280211T190000
DTEND;TZID=America/New_York:20280212T120000
DTSTAMP:20260421T195049
CREATED:20260407T161345Z
LAST-MODIFIED:20260421T234650Z
UID:154293-1833908400-1833969600@churchofpentecost.net
SUMMARY:Grow | Marriage Conference
DESCRIPTION:Grow | Marriage Conference  \nJoin us for a weekend dedicated to strengthening the foundation of your marriage. Through insightful teaching and practical tools\, you’ll learn to build unity and grow closer to God’s design for your relationship. 
URL:https://churchofpentecost.net/event/grow-marriage-conference
END:VEVENT
BEGIN:VEVENT
DTSTART;TZID=America/New_York:20280410T190000
DTEND;TZID=America/New_York:20280410T200000
DTSTAMP:20260421T195049
CREATED:20260407T161238Z
LAST-MODIFIED:20260421T234656Z
UID:154187-1839006000-1839009600@churchofpentecost.net
SUMMARY:Men's Prayer
DESCRIPTION:Join us for Men’s Prayer\, a time dedicated to seeking God and supporting one another in faith. This gathering consists of a short\, men-focused devotional\, an opportunity to share prayer requests\, and time for both individual and corporate prayer. Come stand with your brothers as we bring our needs before the Lord and seek His strength for our lives.  \nWe welcome all men (age 16+) to join us for this night of prayer.
URL:https://churchofpentecost.net/event/mens-prayer
END:VEVENT
BEGIN:VEVENT
DTSTART;TZID=America/New_York:20280218T190000
DTEND;TZID=America/New_York:20280218T210000
DTSTAMP:20260421T195049
CREATED:20260407T161347Z
LAST-MODIFIED:20260421T234651Z
UID:154296-1834513200-1834520400@churchofpentecost.net
SUMMARY:Represent Relationships
DESCRIPTION:Represent Relationships \nDoes God care about who you date and who your friends are? The answer is a resounding YES! \nJoin us as we explore how to build relationships that honor God. This session will focus on: \n\n\nDating with the goal of marriage.\nSetting Godly examples for others to follow.\nNurturing friendships rooted in faith and purpose.\n\nDiscover the blessings and safeguards of cultivating Godly relationships that reflect His love and guidance. \nFor more details\, contact Bro Nick and Sis Chrissie.
URL:https://churchofpentecost.net/event/represent-relationships
END:VEVENT
BEGIN:VEVENT
DTSTART;TZID=America/New_York:20280416T100000
DTEND;TZID=America/New_York:20280416T110000
DTSTAMP:20260421T195049
CREATED:20260407T161237Z
LAST-MODIFIED:20260421T234656Z
UID:154183-1839492000-1839495600@churchofpentecost.net
SUMMARY:Sunday Morning Service
DESCRIPTION:
URL:https://churchofpentecost.net/event/sunday-morning-service
END:VEVENT
BEGIN:VEVENT
DTSTART;TZID=America/New_York:20280416T110000
DTEND;TZID=America/New_York:20280416T120000
DTSTAMP:20260421T195049
CREATED:20260407T161237Z
LAST-MODIFIED:20260421T234656Z
UID:154185-1839495600-1839499200@churchofpentecost.net
SUMMARY:Sunday Worship Service
DESCRIPTION:
URL:https://churchofpentecost.net/event/sunday-worship-service
END:VEVENT
END:VCALENDAR