BEGIN:VCALENDAR
VERSION:2.0
PRODID:-//Church of Pentecost - ECPv6.15.18//NONSGML v1.0//EN
CALSCALE:GREGORIAN
METHOD:PUBLISH
X-ORIGINAL-URL:https://churchofpentecost.net
X-WR-CALDESC:Events for Church of Pentecost
REFRESH-INTERVAL;VALUE=DURATION:PT1H
X-Robots-Tag:noindex
X-PUBLISHED-TTL:PT1H
BEGIN:VTIMEZONE
TZID:America/New_York
BEGIN:DAYLIGHT
TZOFFSETFROM:-0500
TZOFFSETTO:-0400
TZNAME:EDT
DTSTART:20250309T070000
END:DAYLIGHT
BEGIN:STANDARD
TZOFFSETFROM:-0400
TZOFFSETTO:-0500
TZNAME:EST
DTSTART:20251102T060000
END:STANDARD
BEGIN:DAYLIGHT
TZOFFSETFROM:-0500
TZOFFSETTO:-0400
TZNAME:EDT
DTSTART:20260308T070000
END:DAYLIGHT
BEGIN:STANDARD
TZOFFSETFROM:-0400
TZOFFSETTO:-0500
TZNAME:EST
DTSTART:20261101T060000
END:STANDARD
BEGIN:DAYLIGHT
TZOFFSETFROM:-0500
TZOFFSETTO:-0400
TZNAME:EDT
DTSTART:20270314T070000
END:DAYLIGHT
BEGIN:STANDARD
TZOFFSETFROM:-0400
TZOFFSETTO:-0500
TZNAME:EST
DTSTART:20271107T060000
END:STANDARD
END:VTIMEZONE
BEGIN:VEVENT
DTSTART;TZID=America/New_York:20260805T180000
DTEND;TZID=America/New_York:20260805T190000
DTSTAMP:20260421T103821
CREATED:20260407T161244Z
LAST-MODIFIED:20260421T134623Z
UID:154199-1785952800-1785956400@churchofpentecost.net
SUMMARY:Vision Team Leaders: Vision Team Lead Meeting
DESCRIPTION:
URL:https://churchofpentecost.net/event/vision-team-leaders-vision-team-lead-meeting
END:VEVENT
BEGIN:VEVENT
DTSTART;TZID=America/New_York:20260809T100000
DTEND;TZID=America/New_York:20260809T110000
DTSTAMP:20260421T103821
CREATED:20260407T161307Z
LAST-MODIFIED:20260421T134623Z
UID:154229-1786269600-1786273200@churchofpentecost.net
SUMMARY:Next Steps Class: Q3 2026
DESCRIPTION:Your Next Step is Sunday! \nGod has an incredible purpose for your life\, and Next Steps is designed to help you connect with that purpose. During Next Steps\, you will spend your time diving into what it looks like to follow Jesus\, discover your purpose\, connect to the church and then make a difference with your life. \nGet Involved \nNext Steps happens once a quarter in four consecutive Sundays\, starting with Step One.  We invite you to jump in and register for the next class at Church of Pentecost!
URL:https://churchofpentecost.net/event/next-steps-class-q3-2026
END:VEVENT
BEGIN:VEVENT
DTSTART;TZID=America/New_York:20260816T123000
DTEND;TZID=America/New_York:20260816T140000
DTSTAMP:20260421T103821
CREATED:20260407T161316Z
LAST-MODIFIED:20260421T134624Z
UID:154242-1786883400-1786888800@churchofpentecost.net
SUMMARY:Small Group Fair
DESCRIPTION:Join us for the Small Group Fair! After our AM service\, explore booths from each Small Group\, learn about the upcoming season\, and connect with others. Enjoy great food\, fellowship\, and find the perfect group to help you stay connected and grow in your faith.
URL:https://churchofpentecost.net/event/small-group-fair-2
END:VEVENT
BEGIN:VEVENT
DTSTART;TZID=America/New_York:20260816T180000
DTEND;TZID=America/New_York:20260816T210000
DTSTAMP:20260421T103821
CREATED:20260407T161239Z
LAST-MODIFIED:20260421T134624Z
UID:154190-1786903200-1786914000@churchofpentecost.net
SUMMARY:Leadership Team: COP Leadership Meeting
DESCRIPTION:
URL:https://churchofpentecost.net/event/leadership-team-cop-leadership-meeting
END:VEVENT
BEGIN:VEVENT
DTSTART;VALUE=DATE:20260821
DTEND;VALUE=DATE:20260823
DTSTAMP:20260421T103821
CREATED:20260407T161317Z
LAST-MODIFIED:20260421T134624Z
UID:154245-1787270400-1787443199@churchofpentecost.net
SUMMARY:Ohio Men's Conference
DESCRIPTION:Men’s Conference\nThe Ohio District Men’s Conference is a dynamic gathering of men from UPCI churches across the state\, coming together for a time of powerful preaching\, anointed worship\, and life-changing fellowship. This district-wide event is designed to strengthen\, equip\, and challenge men to rise in faith\, leadership\, and purpose. Don’t miss what God is doing among the men of Ohio!  \nSAVE THE DATE!   \nMore details to come.
URL:https://churchofpentecost.net/event/ohio-mens-conference
END:VEVENT
END:VCALENDAR