BEGIN:VCALENDAR
VERSION:2.0
PRODID:-//Church of Pentecost - ECPv6.15.18//NONSGML v1.0//EN
CALSCALE:GREGORIAN
METHOD:PUBLISH
X-ORIGINAL-URL:https://churchofpentecost.net
X-WR-CALDESC:Events for Church of Pentecost
REFRESH-INTERVAL;VALUE=DURATION:PT1H
X-Robots-Tag:noindex
X-PUBLISHED-TTL:PT1H
BEGIN:VTIMEZONE
TZID:America/New_York
BEGIN:DAYLIGHT
TZOFFSETFROM:-0500
TZOFFSETTO:-0400
TZNAME:EDT
DTSTART:20250309T070000
END:DAYLIGHT
BEGIN:STANDARD
TZOFFSETFROM:-0400
TZOFFSETTO:-0500
TZNAME:EST
DTSTART:20251102T060000
END:STANDARD
BEGIN:DAYLIGHT
TZOFFSETFROM:-0500
TZOFFSETTO:-0400
TZNAME:EDT
DTSTART:20260308T070000
END:DAYLIGHT
BEGIN:STANDARD
TZOFFSETFROM:-0400
TZOFFSETTO:-0500
TZNAME:EST
DTSTART:20261101T060000
END:STANDARD
BEGIN:DAYLIGHT
TZOFFSETFROM:-0500
TZOFFSETTO:-0400
TZNAME:EDT
DTSTART:20270314T070000
END:DAYLIGHT
BEGIN:STANDARD
TZOFFSETFROM:-0400
TZOFFSETTO:-0500
TZNAME:EST
DTSTART:20271107T060000
END:STANDARD
END:VTIMEZONE
BEGIN:VEVENT
DTSTART;TZID=America/New_York:20260906T130000
DTEND;TZID=America/New_York:20260906T200000
DTSTAMP:20260421T120010
CREATED:20260407T161320Z
LAST-MODIFIED:20260421T154744Z
UID:154248-1788699600-1788724800@churchofpentecost.net
SUMMARY:Church Picnic
DESCRIPTION:Annual Church Picnic \nJoin us for a fun day at the park right after Sunday morning service! We’ll kick off with a potluck feast\, so bring your favorite dish to share. Enjoy a range of activities for the kids\, and join in on various games\, including a friendly game of softball. It’s a perfect chance to relax\, connect\, and have fun with the church family. See you there!
URL:https://churchofpentecost.net/event/church-picnic
END:VEVENT
BEGIN:VEVENT
DTSTART;VALUE=DATE:20260911
DTEND;VALUE=DATE:20260913
DTSTAMP:20260421T120010
CREATED:20260407T161321Z
LAST-MODIFIED:20260421T154744Z
UID:154251-1789084800-1789257599@churchofpentecost.net
SUMMARY:Ohio Ladies Conference
DESCRIPTION:Ladies Conference\nJoin us for the Ohio District Ladies Conference\, a powerful time of worship\, teaching\, and fellowship for women from UPCI churches across the state. This district-wide event is designed to inspire\, equip\, and refresh women of all ages as we gather in unity and faith. Come expecting a mighty move of God and meaningful connection with your sisters in Christ! \nSAVE THE DATE!   \nMore details to come.
URL:https://churchofpentecost.net/event/ohio-ladies-conference
END:VEVENT
BEGIN:VEVENT
DTSTART;VALUE=DATE:20260925
DTEND;VALUE=DATE:20260927
DTSTAMP:20260421T120010
CREATED:20260407T161323Z
LAST-MODIFIED:20260421T154745Z
UID:154254-1790294400-1790467199@churchofpentecost.net
SUMMARY:Battlefield
DESCRIPTION:
URL:https://churchofpentecost.net/event/battlefield
END:VEVENT
BEGIN:VEVENT
DTSTART;TZID=America/New_York:20260927T100000
DTEND;TZID=America/New_York:20260927T120000
DTSTAMP:20260421T120010
CREATED:20260407T161325Z
LAST-MODIFIED:20260421T154745Z
UID:154259-1790503200-1790510400@churchofpentecost.net
SUMMARY:September Baby Dedication
DESCRIPTION:Are you ready to dedicate your baby to the Lord? Church of Pentecost invites you to take part in our upcoming Baby Dedication service. \nThis special ceremony is a meaningful opportunity to: \n\nCommit to raising your child in a godly manner.\nSeek God’s blessings upon your little one.\nReceive support from our church community as you nurture your child in faith.\n\nSign up and join us for this beautiful moment!  We look forward to celebrating this special milestone with your family! \n*Pastor Roberts will confirm by email within a couple days of registration. \n*To register your child: \n\nComplete the first section with your information (the registering parent/guardian).\nComplete the second section by entering the details for the child being dedicated.
URL:https://churchofpentecost.net/event/september-baby-dedication
END:VEVENT
END:VCALENDAR